BEGIN:VCALENDAR
VERSION:2.0
PRODID:-//Dartvereniging Renswoude - ECPv6.15.20//NONSGML v1.0//EN
CALSCALE:GREGORIAN
METHOD:PUBLISH
X-WR-CALNAME:Dartvereniging Renswoude
X-ORIGINAL-URL:https://www.dvrenswoude.nl
X-WR-CALDESC:Evenementen voor Dartvereniging Renswoude
REFRESH-INTERVAL;VALUE=DURATION:PT1H
X-Robots-Tag:noindex
X-PUBLISHED-TTL:PT1H
BEGIN:VTIMEZONE
TZID:Europe/Amsterdam
BEGIN:DAYLIGHT
TZOFFSETFROM:+0100
TZOFFSETTO:+0200
TZNAME:CEST
DTSTART:20200329T010000
END:DAYLIGHT
BEGIN:STANDARD
TZOFFSETFROM:+0200
TZOFFSETTO:+0100
TZNAME:CET
DTSTART:20201025T010000
END:STANDARD
BEGIN:DAYLIGHT
TZOFFSETFROM:+0100
TZOFFSETTO:+0200
TZNAME:CEST
DTSTART:20210328T010000
END:DAYLIGHT
BEGIN:STANDARD
TZOFFSETFROM:+0200
TZOFFSETTO:+0100
TZNAME:CET
DTSTART:20211031T010000
END:STANDARD
BEGIN:DAYLIGHT
TZOFFSETFROM:+0100
TZOFFSETTO:+0200
TZNAME:CEST
DTSTART:20220327T010000
END:DAYLIGHT
BEGIN:STANDARD
TZOFFSETFROM:+0200
TZOFFSETTO:+0100
TZNAME:CET
DTSTART:20221030T010000
END:STANDARD
END:VTIMEZONE
BEGIN:VEVENT
DTSTART;TZID=Europe/Amsterdam:20211012T200000
DTEND;TZID=Europe/Amsterdam:20211012T223000
DTSTAMP:20260422T125953
CREATED:20211005T123817Z
LAST-MODIFIED:20211011T095539Z
UID:1895-1634068800-1634077800@www.dvrenswoude.nl
SUMMARY:Oefenavond 12-10-2021
DESCRIPTION:De oefenavonden zijn bedoeld zoals de naam het al zegt. Een avondje pijltjes gooien tegen andere leden zonder al te veel verplichtingen. Wij zullen bij voldoende aanmeldingen wel proberen de spelers op niveau in te delen in gelijkwaardige poules\, maar hier is altijd overleg in mogelijk. Het dartlokaal is bij voldoende animo iedere dinsdagavond om 19:30 uur geopend en de DVR zorgt ervoor dat jullie niet uitdrogen. Hiervoor vragen wij alleen maar een vrijwillige bijdrage.  \nWij willen van te voren wel weten wie er komen. Hiervoor dien je jezelf dan wel te registreren. Schrijf je nu in voor 12 oktober 2021 \nMomenteel geregistreerdGeurt Beijer Arjan Aantjes Berry Demoed André van Veller
URL:https://www.dvrenswoude.nl/event/oefenavond-12-10-2021/
LOCATION:Dartlokaal DVR\, Lijsterbeslaan 18\, Renswoude\, Nederland
CATEGORIES:Oefenavond
ORGANIZER;CN="DV Renswoude":MAILTO:info@dvrenswoude.nl
END:VEVENT
BEGIN:VEVENT
DTSTART;TZID=Europe/Amsterdam:20211019T200000
DTEND;TZID=Europe/Amsterdam:20211019T223000
DTSTAMP:20260422T125953
CREATED:20211005T130917Z
LAST-MODIFIED:20211011T094517Z
UID:1916-1634673600-1634682600@www.dvrenswoude.nl
SUMMARY:Oefenavond 19-10-2021
DESCRIPTION:De oefenavonden zijn bedoeld zoals de naam het al zegt. Een avondje pijltjes gooien tegen andere leden zonder al te veel verplichtingen. Wij zullen bij voldoende aanmeldingen wel proberen de spelers op niveau in te delen in gelijkwaardige poules\, maar hier is altijd overleg in mogelijk. Het dartlokaal is bij voldoende animo iedere dinsdagavond om 19:30 uur geopend en de DVR zorgt ervoor dat jullie niet uitdrogen. Hiervoor vragen wij alleen maar een vrijwillige bijdrage. \nWij willen van te voren wel weten wie er komen. Hiervoor dien je jezelf dan wel te registreren. Schrijf je nu in voor 19 oktober 2021 \nMomenteel geregistreerdJoep Huijzendveld Berry Demoed Geurt Beijer Hanno van Uffelen
URL:https://www.dvrenswoude.nl/event/oefenavond-19-10-2021/
LOCATION:Dartlokaal DVR\, Lijsterbeslaan 18\, Renswoude\, Nederland
CATEGORIES:Oefenavond
ORGANIZER;CN="DV Renswoude":MAILTO:info@dvrenswoude.nl
END:VEVENT
BEGIN:VEVENT
DTSTART;TZID=Europe/Amsterdam:20211026T200000
DTEND;TZID=Europe/Amsterdam:20211026T223000
DTSTAMP:20260422T125953
CREATED:20211005T131045Z
LAST-MODIFIED:20211026T154407Z
UID:1919-1635278400-1635287400@www.dvrenswoude.nl
SUMMARY:Oefenavond 26-10-2021
DESCRIPTION:De oefenavonden zijn bedoeld zoals de naam het al zegt. Een avondje pijltjes gooien tegen andere leden zonder al te veel verplichtingen. Wij zullen bij voldoende aanmeldingen wel proberen de spelers op niveau in te delen in gelijkwaardige poules\, maar hier is altijd overleg in mogelijk. Het dartlokaal is bij voldoende animo iedere dinsdagavond om 19:30 uur geopend en de DVR zorgt ervoor dat jullie niet uitdrogen. Hiervoor vragen wij alleen maar een vrijwillige bijdrage. \nWij willen van te voren wel weten wie er komen. Hiervoor dien je jezelf dan wel te registreren. Schrijf je nu in voor 26 oktober 2021 \nMomenteel geregistreerdWilco Brandhof Martijn Van de Pol André van Veller Maikel Breedijk Berry Demoed Hanno van Uffelen
URL:https://www.dvrenswoude.nl/event/oefenavond-26-10-2021/
LOCATION:Dartlokaal DVR\, Lijsterbeslaan 18\, Renswoude\, Nederland
CATEGORIES:Oefenavond
ORGANIZER;CN="DV Renswoude":MAILTO:info@dvrenswoude.nl
END:VEVENT
END:VCALENDAR