BEGIN:VCALENDAR
VERSION:2.0
PRODID:-//Dartvereniging Renswoude - ECPv6.15.20//NONSGML v1.0//EN
CALSCALE:GREGORIAN
METHOD:PUBLISH
X-ORIGINAL-URL:https://www.dvrenswoude.nl
X-WR-CALDESC:Evenementen voor Dartvereniging Renswoude
REFRESH-INTERVAL;VALUE=DURATION:PT1H
X-Robots-Tag:noindex
X-PUBLISHED-TTL:PT1H
BEGIN:VTIMEZONE
TZID:Europe/Amsterdam
BEGIN:DAYLIGHT
TZOFFSETFROM:+0100
TZOFFSETTO:+0200
TZNAME:CEST
DTSTART:20210328T010000
END:DAYLIGHT
BEGIN:STANDARD
TZOFFSETFROM:+0200
TZOFFSETTO:+0100
TZNAME:CET
DTSTART:20211031T010000
END:STANDARD
BEGIN:DAYLIGHT
TZOFFSETFROM:+0100
TZOFFSETTO:+0200
TZNAME:CEST
DTSTART:20220327T010000
END:DAYLIGHT
BEGIN:STANDARD
TZOFFSETFROM:+0200
TZOFFSETTO:+0100
TZNAME:CET
DTSTART:20221030T010000
END:STANDARD
BEGIN:DAYLIGHT
TZOFFSETFROM:+0100
TZOFFSETTO:+0200
TZNAME:CEST
DTSTART:20230326T010000
END:DAYLIGHT
BEGIN:STANDARD
TZOFFSETFROM:+0200
TZOFFSETTO:+0100
TZNAME:CET
DTSTART:20231029T010000
END:STANDARD
END:VTIMEZONE
BEGIN:VEVENT
DTSTART;TZID=Europe/Amsterdam:20220201T200000
DTEND;TZID=Europe/Amsterdam:20220201T230000
DTSTAMP:20260422T063630
CREATED:20220126T133422Z
LAST-MODIFIED:20220126T133817Z
UID:2233-1643745600-1643756400@www.dvrenswoude.nl
SUMMARY:Interne competitie 01-02-2022
DESCRIPTION:We blijven doorgaan darten nu het weer kan. Iedere dinsdagavond en vrijdagavond zullen wij het dartlokaal openen voor onze leden om zo lekker een potje te kunnen darten. Op dinsdag- en vrijdagavond gaat het lokaal om 19:30 uur open en zullen wij om 20:00 uur beginnen. Wij gaan dat iets anders aanpakken dan de oefenavonden. Er zijn iedere avond punten te verdienen voor een soort van interne competitie. Na een aantal weken zal daar een winnaar uitkomen en daarvoor hebben wij dan een kleinigheidje. Er hoeft voor die avonden geen inschrijfgeld te worden betaald. De koelkast is gevuld en wij vragen hiervoor een vrijwillige bijdrage. QR-code is verplicht\, bij klachten thuis blijven en wanneer je niet aan het darten bent zul je moeten zitten. \nMomenteel geregistreerdGeurt Beijer Martijn Van de pol Berry Demoed André van Veller Maikel Breedijk Hanno van Uffelen Mick van den Berg
URL:https://www.dvrenswoude.nl/event/interne-competitie-01-02-2022/
LOCATION:Dartlokaal DVR\, Lijsterbeslaan 18\, Renswoude\, Nederland
CATEGORIES:Oefenavond
ORGANIZER;CN="DV Renswoude":MAILTO:info@dvrenswoude.nl
END:VEVENT
BEGIN:VEVENT
DTSTART;TZID=Europe/Amsterdam:20220204T200000
DTEND;TZID=Europe/Amsterdam:20220204T230000
DTSTAMP:20260422T063630
CREATED:20220126T133739Z
LAST-MODIFIED:20220126T133739Z
UID:2237-1644004800-1644015600@www.dvrenswoude.nl
SUMMARY:Interne competitie 04-02-2022
DESCRIPTION:We blijven doorgaan darten nu het weer kan. Iedere dinsdagavond en vrijdagavond zullen wij het dartlokaal openen voor onze leden om zo lekker een potje te kunnen darten. Op dinsdag- en vrijdagavond gaat het lokaal om 19:30 uur open en zullen wij om 20:00 uur beginnen. Wij gaan dat iets anders aanpakken dan de oefenavonden. Er zijn iedere avond punten te verdienen voor een soort van interne competitie. Na een aantal weken zal daar een winnaar uitkomen en daarvoor hebben wij dan een kleinigheidje. Er hoeft voor die avonden geen inschrijfgeld te worden betaald. De koelkast is gevuld en wij vragen hiervoor een vrijwillige bijdrage. QR-code is verplicht\, bij klachten thuis blijven en wanneer je niet aan het darten bent zul je moeten zitten. \nMomenteel geregistreerdMaikel Breedijk Geurt Beijer André van Veller Micha De Vries Mick van den Berg
URL:https://www.dvrenswoude.nl/event/interne-competitie-04-02-2022/
LOCATION:Dartlokaal DVR\, Lijsterbeslaan 18\, Renswoude\, Nederland
CATEGORIES:Oefenavond
ORGANIZER;CN="DV Renswoude":MAILTO:info@dvrenswoude.nl
END:VEVENT
BEGIN:VEVENT
DTSTART;TZID=Europe/Amsterdam:20220208T200000
DTEND;TZID=Europe/Amsterdam:20220208T230000
DTSTAMP:20260422T063630
CREATED:20220203T074959Z
LAST-MODIFIED:20220203T074959Z
UID:2275-1644350400-1644361200@www.dvrenswoude.nl
SUMMARY:Interne Competitie 08-02-2022
DESCRIPTION:We blijven doorgaan darten nu het weer kan. Iedere dinsdagavond en vrijdagavond zullen wij het dartlokaal openen voor onze leden om zo lekker een potje te kunnen darten. Op dinsdag- en vrijdagavond gaat het lokaal om 19:30 uur open en zullen wij om 20:00 uur beginnen. Wij gaan dat iets anders aanpakken dan de oefenavonden. Er zijn iedere avond punten te verdienen voor een soort van interne competitie. Na een aantal weken zal daar een winnaar uitkomen en daarvoor hebben wij dan een kleinigheidje. Er hoeft voor die avonden geen inschrijfgeld te worden betaald. De koelkast is gevuld en wij vragen hiervoor een vrijwillige bijdrage. QR-code is verplicht\, bij klachten thuis blijven en wanneer je niet aan het darten bent zul je moeten zitten. \nMomenteel geregistreerdAndre de Wit Hanno van Uffelen Mick van den Berg Martijn Van de Pol Geurt Beijer Arjan Aantjes André van Veller Joep Huijzendveld
URL:https://www.dvrenswoude.nl/event/interne-competitie-08-02-2022/
LOCATION:Dartlokaal DVR\, Lijsterbeslaan 18\, Renswoude\, Nederland
CATEGORIES:Oefenavond
ORGANIZER;CN="DV Renswoude":MAILTO:info@dvrenswoude.nl
END:VEVENT
BEGIN:VEVENT
DTSTART;TZID=Europe/Amsterdam:20220211T200000
DTEND;TZID=Europe/Amsterdam:20220211T230000
DTSTAMP:20260422T063630
CREATED:20220203T075207Z
LAST-MODIFIED:20220203T075207Z
UID:2278-1644609600-1644620400@www.dvrenswoude.nl
SUMMARY:Interne competitie 11-02-2022
DESCRIPTION:We blijven doorgaan darten nu het weer kan. Iedere dinsdagavond en vrijdagavond zullen wij het dartlokaal openen voor onze leden om zo lekker een potje te kunnen darten. Op dinsdag- en vrijdagavond gaat het lokaal om 19:30 uur open en zullen wij om 20:00 uur beginnen. Wij gaan dat iets anders aanpakken dan de oefenavonden. Er zijn iedere avond punten te verdienen voor een soort van interne competitie. Na een aantal weken zal daar een winnaar uitkomen en daarvoor hebben wij dan een kleinigheidje. Er hoeft voor die avonden geen inschrijfgeld te worden betaald. De koelkast is gevuld en wij vragen hiervoor een vrijwillige bijdrage. QR-code is verplicht\, bij klachten thuis blijven en wanneer je niet aan het darten bent zul je moeten zitten. \nMomenteel geregistreerdTheo van Voorthuizen Mick van den Berg Gerdo Diepeveen Gerard Pol André van Veller Emiel Van den heuvel
URL:https://www.dvrenswoude.nl/event/interne-competitie-11-02-2022/
LOCATION:Dartlokaal DVR\, Lijsterbeslaan 18\, Renswoude\, Nederland
CATEGORIES:Oefenavond
ORGANIZER;CN="DV Renswoude":MAILTO:info@dvrenswoude.nl
END:VEVENT
BEGIN:VEVENT
DTSTART;TZID=Europe/Amsterdam:20220215T200000
DTEND;TZID=Europe/Amsterdam:20220215T230000
DTSTAMP:20260422T063630
CREATED:20220203T075316Z
LAST-MODIFIED:20220203T075316Z
UID:2280-1644955200-1644966000@www.dvrenswoude.nl
SUMMARY:Interne competitie 15-02-2022
DESCRIPTION:We blijven doorgaan darten nu het weer kan. Iedere dinsdagavond en vrijdagavond zullen wij het dartlokaal openen voor onze leden om zo lekker een potje te kunnen darten. Op dinsdag- en vrijdagavond gaat het lokaal om 19:30 uur open en zullen wij om 20:00 uur beginnen. Wij gaan dat iets anders aanpakken dan de oefenavonden. Er zijn iedere avond punten te verdienen voor een soort van interne competitie. Na een aantal weken zal daar een winnaar uitkomen en daarvoor hebben wij dan een kleinigheidje. Er hoeft voor die avonden geen inschrijfgeld te worden betaald. De koelkast is gevuld en wij vragen hiervoor een vrijwillige bijdrage. QR-code is verplicht\, bij klachten thuis blijven en wanneer je niet aan het darten bent zul je moeten zitten. \nMomenteel geregistreerdHanno van Uffelen André van Veller Andre De Wit Arjan Aantjes Joep Huijzendveld Mick van den Berg
URL:https://www.dvrenswoude.nl/event/interne-competitie-15-02-2022/
LOCATION:Dartlokaal DVR\, Lijsterbeslaan 18\, Renswoude\, Nederland
CATEGORIES:Oefenavond
ORGANIZER;CN="DV Renswoude":MAILTO:info@dvrenswoude.nl
END:VEVENT
BEGIN:VEVENT
DTSTART;TZID=Europe/Amsterdam:20220218T200000
DTEND;TZID=Europe/Amsterdam:20220218T230000
DTSTAMP:20260422T063630
CREATED:20220203T075417Z
LAST-MODIFIED:20220203T075417Z
UID:2282-1645214400-1645225200@www.dvrenswoude.nl
SUMMARY:Interne competitie 18-02-2022
DESCRIPTION:We blijven doorgaan darten nu het weer kan. Iedere dinsdagavond en vrijdagavond zullen wij het dartlokaal openen voor onze leden om zo lekker een potje te kunnen darten. Op dinsdag- en vrijdagavond gaat het lokaal om 19:30 uur open en zullen wij om 20:00 uur beginnen. Wij gaan dat iets anders aanpakken dan de oefenavonden. Er zijn iedere avond punten te verdienen voor een soort van interne competitie. Na een aantal weken zal daar een winnaar uitkomen en daarvoor hebben wij dan een kleinigheidje. Er hoeft voor die avonden geen inschrijfgeld te worden betaald. De koelkast is gevuld en wij vragen hiervoor een vrijwillige bijdrage. QR-code is verplicht\, bij klachten thuis blijven en wanneer je niet aan het darten bent zul je moeten zitten. \nMomenteel geregistreerdMaikel Breedijk Geurt Beijer André van Veller Mick van den Berg
URL:https://www.dvrenswoude.nl/event/interne-competitie-18-02-2022/
LOCATION:Dartlokaal DVR\, Lijsterbeslaan 18\, Renswoude\, Nederland
CATEGORIES:Oefenavond
ORGANIZER;CN="DV Renswoude":MAILTO:info@dvrenswoude.nl
END:VEVENT
BEGIN:VEVENT
DTSTART;TZID=Europe/Amsterdam:20220222T200000
DTEND;TZID=Europe/Amsterdam:20220222T230000
DTSTAMP:20260422T063630
CREATED:20220221T110525Z
LAST-MODIFIED:20220221T110525Z
UID:2316-1645560000-1645570800@www.dvrenswoude.nl
SUMMARY:Interne Competitie 22-02-2022
DESCRIPTION:De competities zijn weer begonnen en dus zullen wij nog maar 1 in de week gaan gooien. Dit alleen als er voldoende animo is. Alles blijft verder hetzelfde.  \nMomenteel geregistreerdHanno van Uffelen Mick van den Berg
URL:https://www.dvrenswoude.nl/event/interne-competitie-22-02-2022/
LOCATION:Dartlokaal DVR\, Lijsterbeslaan 18\, Renswoude\, Nederland
CATEGORIES:Oefenavond
ORGANIZER;CN="DV Renswoude":MAILTO:info@dvrenswoude.nl
END:VEVENT
END:VCALENDAR