BEGIN:VCALENDAR
VERSION:2.0
PRODID:-//Dartvereniging Renswoude - ECPv6.15.20//NONSGML v1.0//EN
CALSCALE:GREGORIAN
METHOD:PUBLISH
X-ORIGINAL-URL:https://www.dvrenswoude.nl
X-WR-CALDESC:Evenementen voor Dartvereniging Renswoude
REFRESH-INTERVAL;VALUE=DURATION:PT1H
X-Robots-Tag:noindex
X-PUBLISHED-TTL:PT1H
BEGIN:VTIMEZONE
TZID:Europe/Amsterdam
BEGIN:DAYLIGHT
TZOFFSETFROM:+0100
TZOFFSETTO:+0200
TZNAME:CEST
DTSTART:20210328T010000
END:DAYLIGHT
BEGIN:STANDARD
TZOFFSETFROM:+0200
TZOFFSETTO:+0100
TZNAME:CET
DTSTART:20211031T010000
END:STANDARD
BEGIN:DAYLIGHT
TZOFFSETFROM:+0100
TZOFFSETTO:+0200
TZNAME:CEST
DTSTART:20220327T010000
END:DAYLIGHT
BEGIN:STANDARD
TZOFFSETFROM:+0200
TZOFFSETTO:+0100
TZNAME:CET
DTSTART:20221030T010000
END:STANDARD
BEGIN:DAYLIGHT
TZOFFSETFROM:+0100
TZOFFSETTO:+0200
TZNAME:CEST
DTSTART:20230326T010000
END:DAYLIGHT
BEGIN:STANDARD
TZOFFSETFROM:+0200
TZOFFSETTO:+0100
TZNAME:CET
DTSTART:20231029T010000
END:STANDARD
END:VTIMEZONE
BEGIN:VEVENT
DTSTART;TZID=Europe/Amsterdam:20220119T200000
DTEND;TZID=Europe/Amsterdam:20220119T223000
DTSTAMP:20260422T094026
CREATED:20220116T122636Z
LAST-MODIFIED:20220119T151120Z
UID:2186-1642622400-1642631400@www.dvrenswoude.nl
SUMMARY:Oefenavond 19-1-2022
DESCRIPTION:We blijven doorgaan met de oefenmomenten nu het weer kan. Iedere woensdagavond en zaterdagmiddag zullen wij het dartlokaal openen voor onze leden om zo lekker een potje te kunnen darten. Op woensdagavond gaat het lokaal om 19:30 uur open en zullen wij om 20:00 uur beginnen. Op zaterdag openen wij om 14:00 uur en starten wij om 14:30 uur. De koelkast is gevuld en wij vragen hiervoor een vrijwillige bijdrage. QR-code is verplicht\, bij klachten thuis blijven en wanneer je niet aan het darten bent zul je moeten zitten. \nMomenteel geregistreerdMaikel Breedijk André Van Veller Mick van den Berg Geurt Beijer Hanno van Uffelen
URL:https://www.dvrenswoude.nl/event/oefenavond-19-1-2022/
LOCATION:Dartlokaal DVR\, Lijsterbeslaan 18\, Renswoude\, Nederland
CATEGORIES:Oefenavond
ORGANIZER;CN="DV Renswoude":MAILTO:info@dvrenswoude.nl
END:VEVENT
END:VCALENDAR