BEGIN:VCALENDAR
VERSION:2.0
PRODID:-//Dartvereniging Renswoude - ECPv6.15.20//NONSGML v1.0//EN
CALSCALE:GREGORIAN
METHOD:PUBLISH
X-ORIGINAL-URL:https://www.dvrenswoude.nl
X-WR-CALDESC:Evenementen voor Dartvereniging Renswoude
REFRESH-INTERVAL;VALUE=DURATION:PT1H
X-Robots-Tag:noindex
X-PUBLISHED-TTL:PT1H
BEGIN:VTIMEZONE
TZID:Europe/Amsterdam
BEGIN:DAYLIGHT
TZOFFSETFROM:+0100
TZOFFSETTO:+0200
TZNAME:CEST
DTSTART:20200329T010000
END:DAYLIGHT
BEGIN:STANDARD
TZOFFSETFROM:+0200
TZOFFSETTO:+0100
TZNAME:CET
DTSTART:20201025T010000
END:STANDARD
BEGIN:DAYLIGHT
TZOFFSETFROM:+0100
TZOFFSETTO:+0200
TZNAME:CEST
DTSTART:20210328T010000
END:DAYLIGHT
BEGIN:STANDARD
TZOFFSETFROM:+0200
TZOFFSETTO:+0100
TZNAME:CET
DTSTART:20211031T010000
END:STANDARD
BEGIN:DAYLIGHT
TZOFFSETFROM:+0100
TZOFFSETTO:+0200
TZNAME:CEST
DTSTART:20220327T010000
END:DAYLIGHT
BEGIN:STANDARD
TZOFFSETFROM:+0200
TZOFFSETTO:+0100
TZNAME:CET
DTSTART:20221030T010000
END:STANDARD
BEGIN:DAYLIGHT
TZOFFSETFROM:+0100
TZOFFSETTO:+0200
TZNAME:CEST
DTSTART:20230326T010000
END:DAYLIGHT
BEGIN:STANDARD
TZOFFSETFROM:+0200
TZOFFSETTO:+0100
TZNAME:CET
DTSTART:20231029T010000
END:STANDARD
END:VTIMEZONE
BEGIN:VEVENT
DTSTART;TZID=Europe/Amsterdam:20211116T200000
DTEND;TZID=Europe/Amsterdam:20211116T223000
DTSTAMP:20260422T235016
CREATED:20211109T095747Z
LAST-MODIFIED:20211115T075515Z
UID:2000-1637092800-1637101800@www.dvrenswoude.nl
SUMMARY:Oefenavond 16-11-2021
DESCRIPTION:De oefenavonden zijn bedoeld zoals de naam het al zegt. Een avondje pijltjes gooien tegen andere leden zonder al te veel verplichtingen. Wij zullen bij voldoende aanmeldingen wel proberen de spelers op niveau in te delen in gelijkwaardige poules\, maar hier is altijd overleg in mogelijk. Het dartlokaal is bij voldoende animo iedere dinsdagavond om 19:30 uur geopend en de DVR zorgt ervoor dat jullie niet uitdrogen. Hiervoor vragen wij alleen maar een vrijwillige bijdrage. \nWij willen van te voren wel weten wie er komen. Hiervoor dien je jezelf dan wel te registreren. Schrijf je nu in voor 16 november 2021 \nVanaf heden zijn wij wel verplicht om naar een geldige QR-code te vragen. \n\n			Momenteel geregistreerd\n				Wees de eerste!
URL:https://www.dvrenswoude.nl/event/oefenavond-16-11-2021/
LOCATION:Dartlokaal DVR\, Lijsterbeslaan 18\, Renswoude\, Nederland
CATEGORIES:Oefenavond
ORGANIZER;CN="DV Renswoude":MAILTO:info@dvrenswoude.nl
END:VEVENT
BEGIN:VEVENT
DTSTART;TZID=Europe/Amsterdam:20211118T200000
DTEND;TZID=Europe/Amsterdam:20211118T223000
DTSTAMP:20260422T235016
CREATED:20211113T094508Z
LAST-MODIFIED:20211117T154650Z
UID:2018-1637265600-1637274600@www.dvrenswoude.nl
SUMMARY:Oefenavond 18-11-2021
DESCRIPTION:De oefenavonden zijn bedoeld zoals de naam het al zegt. Een avondje pijltjes gooien tegen andere leden zonder al te veel verplichtingen. Wij zullen bij voldoende aanmeldingen wel proberen de spelers op niveau in te delen in gelijkwaardige poules\, maar hier is altijd overleg in mogelijk. Het dartlokaal is bij voldoende animo nu ook iedere donderdagavond om 19:30 uur geopend en de DVR zorgt ervoor dat jullie niet uitdrogen. Hiervoor vragen wij alleen maar een vrijwillige bijdrage. \nWij willen van te voren wel weten wie er komen. Hiervoor dien je jezelf dan wel te registreren. Schrijf je nu in voor 18 november 2021 \nVanaf heden zijn wij wel verplicht om naar een geldige QR-code te vragen. \nMomenteel geregistreerdGeurt Beijer Martijn Van de pol André van Veller
URL:https://www.dvrenswoude.nl/event/oefenavond-18-11-2021/
LOCATION:Dartlokaal DVR\, Lijsterbeslaan 18\, Renswoude\, Nederland
CATEGORIES:Oefenavond
ORGANIZER;CN="DV Renswoude":MAILTO:info@dvrenswoude.nl
END:VEVENT
BEGIN:VEVENT
DTSTART;TZID=Europe/Amsterdam:20211123T200000
DTEND;TZID=Europe/Amsterdam:20211123T223000
DTSTAMP:20260422T235016
CREATED:20211109T100026Z
LAST-MODIFIED:20211122T182216Z
UID:2003-1637697600-1637706600@www.dvrenswoude.nl
SUMMARY:Oefenavond 23-11-2021
DESCRIPTION:De oefenavonden zijn bedoeld zoals de naam het al zegt. Een avondje pijltjes gooien tegen andere leden zonder al te veel verplichtingen. Wij zullen bij voldoende aanmeldingen wel proberen de spelers op niveau in te delen in gelijkwaardige poules\, maar hier is altijd overleg in mogelijk. Het dartlokaal is bij voldoende animo iedere dinsdagavond om 19:30 uur geopend en de DVR zorgt ervoor dat jullie niet uitdrogen. Hiervoor vragen wij alleen maar een vrijwillige bijdrage. \nWij willen van te voren wel weten wie er komen. Hiervoor dien je jezelf dan wel te registreren. Schrijf je nu in voor 23 november 2021 \nVanaf heden zijn wij wel verplicht om naar een geldige QR-code te vragen. \nMomenteel geregistreerdMaikel Breedijk Geurt Beijer Hanno van Uffelen Mick van den Berg Martijn Van de pol André van Veller
URL:https://www.dvrenswoude.nl/event/oefenavond-23-11-2021/
LOCATION:Dartlokaal DVR\, Lijsterbeslaan 18\, Renswoude\, Nederland
CATEGORIES:Oefenavond
ORGANIZER;CN="DV Renswoude":MAILTO:info@dvrenswoude.nl
END:VEVENT
BEGIN:VEVENT
DTSTART;TZID=Europe/Amsterdam:20211125T200000
DTEND;TZID=Europe/Amsterdam:20211125T223000
DTSTAMP:20260422T235016
CREATED:20211118T081742Z
LAST-MODIFIED:20211123T161223Z
UID:2051-1637870400-1637879400@www.dvrenswoude.nl
SUMMARY:Oefenavond 25-11-2021
DESCRIPTION:De oefenavonden zijn bedoeld zoals de naam het al zegt. Een avondje pijltjes gooien tegen andere leden zonder al te veel verplichtingen. Wij zullen bij voldoende aanmeldingen wel proberen de spelers op niveau in te delen in gelijkwaardige poules\, maar hier is altijd overleg in mogelijk. Het dartlokaal is bij voldoende animo nu ook iedere donderdagavond om 19:30 uur geopend en de DVR zorgt ervoor dat jullie niet uitdrogen. Hiervoor vragen wij alleen maar een vrijwillige bijdrage. \nWij willen van te voren wel weten wie er komen. Hiervoor dien je jezelf dan wel te registreren. Schrijf je nu in voor 25 november 2021 \nVanaf heden zijn wij wel verplicht om naar een geldige QR-code te vragen. \n\n			Momenteel geregistreerd\n				Wees de eerste!
URL:https://www.dvrenswoude.nl/event/oefenavond-25-11-2021/
LOCATION:Dartlokaal DVR\, Lijsterbeslaan 18\, Renswoude\, Nederland
CATEGORIES:Oefenavond
ORGANIZER;CN="DV Renswoude":MAILTO:info@dvrenswoude.nl
END:VEVENT
BEGIN:VEVENT
DTSTART;TZID=Europe/Amsterdam:20211204T140000
DTEND;TZID=Europe/Amsterdam:20211204T170000
DTSTAMP:20260422T235016
CREATED:20211130T100126Z
LAST-MODIFIED:20211202T162445Z
UID:2060-1638626400-1638637200@www.dvrenswoude.nl
SUMMARY:Oefenmiddag 04-12-2021
DESCRIPTION:Omdat amateursporten niet meer mag na 17:00 uur\, kunnen de oefenavonden geen doorgang meer vinden. Om toch nog een pijltje te kunnen gooien hebben wij besloten om het dartlokaal zaterdagmiddag tussen 13:30 en 17:00 uur open te stellen. De oefenmiddag zal dan bij voldoende animo beginnen om 14:00. Wij zullen de koelkast weer gevuld hebben en vragen alleen om een vrijwillige bijdrage.  \nHelaas is zitten ook weer verplicht als je niet aan het darten bent en bij de ingang vragen wij om de QR-code.  \nMomenteel geregistreerdGert Vink Ab Leijenhorst Hanno van Uffelen Geurt Beijer André van Veller
URL:https://www.dvrenswoude.nl/event/oefenmiddag-04-12-2021/
LOCATION:Dartlokaal DVR\, Lijsterbeslaan 18\, Renswoude\, Nederland
CATEGORIES:Oefenavond
ORGANIZER;CN="DV Renswoude":MAILTO:info@dvrenswoude.nl
END:VEVENT
BEGIN:VEVENT
DTSTART;TZID=Europe/Amsterdam:20211211T133000
DTEND;TZID=Europe/Amsterdam:20211211T170000
DTSTAMP:20260422T235016
CREATED:20211206T095010Z
LAST-MODIFIED:20211206T095010Z
UID:2066-1639229400-1639242000@www.dvrenswoude.nl
SUMMARY:Oefenmiddag 11-12-2021
DESCRIPTION:Omdat amateursporten niet meer mag na 17:00 uur\, kunnen de oefenavonden geen doorgang meer vinden. Om toch nog een pijltje te kunnen gooien hebben wij besloten om het dartlokaal zaterdagmiddag tussen 13:30 en 17:00 uur open te stellen. De oefenmiddag zal dan bij voldoende animo beginnen om 14:00. Wij zullen de koelkast weer gevuld hebben en vragen alleen om een vrijwillige bijdrage.  \nHelaas is zitten ook weer verplicht als je niet aan het darten bent en bij de ingang vragen wij om de QR-code.  \nMomenteel geregistreerdBerry Demoed André van Veller Ab Leijenhorst Maikel Breedijk Hanno van Uffelen
URL:https://www.dvrenswoude.nl/event/oefenmiddag-11-12-2021/
LOCATION:Dartlokaal DVR\, Lijsterbeslaan 18\, Renswoude\, Nederland
CATEGORIES:Oefenavond
ORGANIZER;CN="DV Renswoude":MAILTO:info@dvrenswoude.nl
END:VEVENT
BEGIN:VEVENT
DTSTART;TZID=Europe/Amsterdam:20211218T133000
DTEND;TZID=Europe/Amsterdam:20211218T170000
DTSTAMP:20260422T235016
CREATED:20211209T141931Z
LAST-MODIFIED:20211209T141931Z
UID:2069-1639834200-1639846800@www.dvrenswoude.nl
SUMMARY:Oefenmiddag 18-12-2021
DESCRIPTION:Omdat amateursporten niet meer mag na 17:00 uur\, kunnen de oefenavonden geen doorgang meer vinden. Om toch nog een pijltje te kunnen gooien hebben wij besloten om het dartlokaal zaterdagmiddag tussen 13:30 en 17:00 uur open te stellen. De oefenmiddag zal dan bij voldoende animo beginnen om 14:00. Wij zullen de koelkast weer gevuld hebben en vragen alleen om een vrijwillige bijdrage.  \nHelaas is zitten ook weer verplicht als je niet aan het darten bent en bij de ingang vragen wij om de QR-code.  \nMomenteel geregistreerd  Arjan Aantjes André van Veller Ab Leijenhorst Hanno van Uffelen Martijn Van de Pol
URL:https://www.dvrenswoude.nl/event/oefenmiddag-18-12-2021/
LOCATION:Dartlokaal DVR\, Lijsterbeslaan 18\, Renswoude\, Nederland
CATEGORIES:Oefenavond
ORGANIZER;CN="DV Renswoude":MAILTO:info@dvrenswoude.nl
END:VEVENT
BEGIN:VEVENT
DTSTART;TZID=Europe/Amsterdam:20220115T140000
DTEND;TZID=Europe/Amsterdam:20220115T170000
DTSTAMP:20260422T235016
CREATED:20220114T092150Z
LAST-MODIFIED:20220115T104802Z
UID:2124-1642255200-1642266000@www.dvrenswoude.nl
SUMMARY:Oefenmiddag 15-01-2022
DESCRIPTION:We mogen weer darten en dus gaan wij dat ook gelijk maar weer doen. \nHet dartlokaal opent op 15 januari zijn deuren weer voor een oefenmiddag. Gezellig een potje darten tegen andere leden. De koelkast is weer gevuld en wij vragen alleen een vrijwillige bijdrage. Het dartlokaal is geopend om 13:30 en om 14:00 uur willen wij beginnen. \nAls je niet aan het darten bent\, is zitten verplicht en bij de ingang vragen wij om een QR-code. \nMomenteel geregistreerdTijs Van Roekel André van Veller Maikel Breedijk
URL:https://www.dvrenswoude.nl/event/oefenmiddag-15-01-2022/
LOCATION:Dartlokaal DVR\, Lijsterbeslaan 18\, Renswoude\, Nederland
CATEGORIES:Oefenavond
ORGANIZER;CN="DV Renswoude":MAILTO:info@dvrenswoude.nl
END:VEVENT
BEGIN:VEVENT
DTSTART;TZID=Europe/Amsterdam:20220119T200000
DTEND;TZID=Europe/Amsterdam:20220119T223000
DTSTAMP:20260422T235016
CREATED:20220116T122636Z
LAST-MODIFIED:20220119T151120Z
UID:2186-1642622400-1642631400@www.dvrenswoude.nl
SUMMARY:Oefenavond 19-1-2022
DESCRIPTION:We blijven doorgaan met de oefenmomenten nu het weer kan. Iedere woensdagavond en zaterdagmiddag zullen wij het dartlokaal openen voor onze leden om zo lekker een potje te kunnen darten. Op woensdagavond gaat het lokaal om 19:30 uur open en zullen wij om 20:00 uur beginnen. Op zaterdag openen wij om 14:00 uur en starten wij om 14:30 uur. De koelkast is gevuld en wij vragen hiervoor een vrijwillige bijdrage. QR-code is verplicht\, bij klachten thuis blijven en wanneer je niet aan het darten bent zul je moeten zitten. \nMomenteel geregistreerdMaikel Breedijk André Van Veller Mick van den Berg Geurt Beijer Hanno van Uffelen
URL:https://www.dvrenswoude.nl/event/oefenavond-19-1-2022/
LOCATION:Dartlokaal DVR\, Lijsterbeslaan 18\, Renswoude\, Nederland
CATEGORIES:Oefenavond
ORGANIZER;CN="DV Renswoude":MAILTO:info@dvrenswoude.nl
END:VEVENT
BEGIN:VEVENT
DTSTART;TZID=Europe/Amsterdam:20220122T143000
DTEND;TZID=Europe/Amsterdam:20220122T180000
DTSTAMP:20260422T235016
CREATED:20220116T122842Z
LAST-MODIFIED:20220122T095939Z
UID:2189-1642861800-1642874400@www.dvrenswoude.nl
SUMMARY:Oefenmiddag 22-1-2022
DESCRIPTION:We blijven doorgaan met de oefenmomenten nu het weer kan. Iedere woensdagavond en zaterdagmiddag zullen wij het dartlokaal openen voor onze leden om zo lekker een potje te kunnen darten. Op woensdagavond gaat het lokaal om 19:30 uur open en zullen wij om 20:00 uur beginnen. Op zaterdag openen wij om 14:00 uur en starten wij om 14:30 uur. De koelkast is gevuld en wij vragen hiervoor een vrijwillige bijdrage. QR-code is verplicht\, bij klachten thuis blijven en wanneer je niet aan het darten bent zul je moeten zitten. \nMomenteel geregistreerdArjan Aantjes Hanno van Uffelen Ab Leijenhorst André van Veller
URL:https://www.dvrenswoude.nl/event/oefenmiddag-22-1-2022/
LOCATION:Dartlokaal DVR\, Lijsterbeslaan 18\, Renswoude\, Nederland
CATEGORIES:Oefenavond
ORGANIZER;CN="DV Renswoude":MAILTO:info@dvrenswoude.nl
END:VEVENT
BEGIN:VEVENT
DTSTART;TZID=Europe/Amsterdam:20220126T200000
DTEND;TZID=Europe/Amsterdam:20220126T230000
DTSTAMP:20260422T235016
CREATED:20220124T075223Z
LAST-MODIFIED:20220126T161612Z
UID:2221-1643227200-1643238000@www.dvrenswoude.nl
SUMMARY:Oefenavond 26-01-2022
DESCRIPTION:We blijven doorgaan met de oefenmomenten nu het weer kan. Iedere woensdagavond en zaterdagmiddag zullen wij het dartlokaal openen voor onze leden om zo lekker een potje te kunnen darten. Op woensdagavond gaat het lokaal om 19:30 uur open en zullen wij om 20:00 uur beginnen. Op zaterdag openen wij om 14:00 uur en starten wij om 14:30 uur. De koelkast is gevuld en wij vragen hiervoor een vrijwillige bijdrage. QR-code is verplicht\, bij klachten thuis blijven en wanneer je niet aan het darten bent zul je moeten zitten. \nMomenteel geregistreerdGeurt Beijer Hanno van Uffelen Arjan Aantjes Martijn Van de pol Maikel Breedijk André van Veller Mick van den Berg
URL:https://www.dvrenswoude.nl/event/oefenavond-26-01-2022/
LOCATION:Dartlokaal DVR\, Lijsterbeslaan 18\, Renswoude\, Nederland
CATEGORIES:Oefenavond
ORGANIZER;CN="DV Renswoude":MAILTO:info@dvrenswoude.nl
END:VEVENT
BEGIN:VEVENT
DTSTART;TZID=Europe/Amsterdam:20220201T200000
DTEND;TZID=Europe/Amsterdam:20220201T230000
DTSTAMP:20260422T235016
CREATED:20220126T133422Z
LAST-MODIFIED:20220126T133817Z
UID:2233-1643745600-1643756400@www.dvrenswoude.nl
SUMMARY:Interne competitie 01-02-2022
DESCRIPTION:We blijven doorgaan darten nu het weer kan. Iedere dinsdagavond en vrijdagavond zullen wij het dartlokaal openen voor onze leden om zo lekker een potje te kunnen darten. Op dinsdag- en vrijdagavond gaat het lokaal om 19:30 uur open en zullen wij om 20:00 uur beginnen. Wij gaan dat iets anders aanpakken dan de oefenavonden. Er zijn iedere avond punten te verdienen voor een soort van interne competitie. Na een aantal weken zal daar een winnaar uitkomen en daarvoor hebben wij dan een kleinigheidje. Er hoeft voor die avonden geen inschrijfgeld te worden betaald. De koelkast is gevuld en wij vragen hiervoor een vrijwillige bijdrage. QR-code is verplicht\, bij klachten thuis blijven en wanneer je niet aan het darten bent zul je moeten zitten. \nMomenteel geregistreerdGeurt Beijer Martijn Van de pol Berry Demoed André van Veller Maikel Breedijk Hanno van Uffelen Mick van den Berg
URL:https://www.dvrenswoude.nl/event/interne-competitie-01-02-2022/
LOCATION:Dartlokaal DVR\, Lijsterbeslaan 18\, Renswoude\, Nederland
CATEGORIES:Oefenavond
ORGANIZER;CN="DV Renswoude":MAILTO:info@dvrenswoude.nl
END:VEVENT
BEGIN:VEVENT
DTSTART;TZID=Europe/Amsterdam:20220204T200000
DTEND;TZID=Europe/Amsterdam:20220204T230000
DTSTAMP:20260422T235016
CREATED:20220126T133739Z
LAST-MODIFIED:20220126T133739Z
UID:2237-1644004800-1644015600@www.dvrenswoude.nl
SUMMARY:Interne competitie 04-02-2022
DESCRIPTION:We blijven doorgaan darten nu het weer kan. Iedere dinsdagavond en vrijdagavond zullen wij het dartlokaal openen voor onze leden om zo lekker een potje te kunnen darten. Op dinsdag- en vrijdagavond gaat het lokaal om 19:30 uur open en zullen wij om 20:00 uur beginnen. Wij gaan dat iets anders aanpakken dan de oefenavonden. Er zijn iedere avond punten te verdienen voor een soort van interne competitie. Na een aantal weken zal daar een winnaar uitkomen en daarvoor hebben wij dan een kleinigheidje. Er hoeft voor die avonden geen inschrijfgeld te worden betaald. De koelkast is gevuld en wij vragen hiervoor een vrijwillige bijdrage. QR-code is verplicht\, bij klachten thuis blijven en wanneer je niet aan het darten bent zul je moeten zitten. \nMomenteel geregistreerdMaikel Breedijk Geurt Beijer André van Veller Micha De Vries Mick van den Berg
URL:https://www.dvrenswoude.nl/event/interne-competitie-04-02-2022/
LOCATION:Dartlokaal DVR\, Lijsterbeslaan 18\, Renswoude\, Nederland
CATEGORIES:Oefenavond
ORGANIZER;CN="DV Renswoude":MAILTO:info@dvrenswoude.nl
END:VEVENT
BEGIN:VEVENT
DTSTART;TZID=Europe/Amsterdam:20220208T200000
DTEND;TZID=Europe/Amsterdam:20220208T230000
DTSTAMP:20260422T235016
CREATED:20220203T074959Z
LAST-MODIFIED:20220203T074959Z
UID:2275-1644350400-1644361200@www.dvrenswoude.nl
SUMMARY:Interne Competitie 08-02-2022
DESCRIPTION:We blijven doorgaan darten nu het weer kan. Iedere dinsdagavond en vrijdagavond zullen wij het dartlokaal openen voor onze leden om zo lekker een potje te kunnen darten. Op dinsdag- en vrijdagavond gaat het lokaal om 19:30 uur open en zullen wij om 20:00 uur beginnen. Wij gaan dat iets anders aanpakken dan de oefenavonden. Er zijn iedere avond punten te verdienen voor een soort van interne competitie. Na een aantal weken zal daar een winnaar uitkomen en daarvoor hebben wij dan een kleinigheidje. Er hoeft voor die avonden geen inschrijfgeld te worden betaald. De koelkast is gevuld en wij vragen hiervoor een vrijwillige bijdrage. QR-code is verplicht\, bij klachten thuis blijven en wanneer je niet aan het darten bent zul je moeten zitten. \nMomenteel geregistreerdAndre de Wit Hanno van Uffelen Mick van den Berg Martijn Van de Pol Geurt Beijer Arjan Aantjes André van Veller Joep Huijzendveld
URL:https://www.dvrenswoude.nl/event/interne-competitie-08-02-2022/
LOCATION:Dartlokaal DVR\, Lijsterbeslaan 18\, Renswoude\, Nederland
CATEGORIES:Oefenavond
ORGANIZER;CN="DV Renswoude":MAILTO:info@dvrenswoude.nl
END:VEVENT
BEGIN:VEVENT
DTSTART;TZID=Europe/Amsterdam:20220211T200000
DTEND;TZID=Europe/Amsterdam:20220211T230000
DTSTAMP:20260422T235016
CREATED:20220203T075207Z
LAST-MODIFIED:20220203T075207Z
UID:2278-1644609600-1644620400@www.dvrenswoude.nl
SUMMARY:Interne competitie 11-02-2022
DESCRIPTION:We blijven doorgaan darten nu het weer kan. Iedere dinsdagavond en vrijdagavond zullen wij het dartlokaal openen voor onze leden om zo lekker een potje te kunnen darten. Op dinsdag- en vrijdagavond gaat het lokaal om 19:30 uur open en zullen wij om 20:00 uur beginnen. Wij gaan dat iets anders aanpakken dan de oefenavonden. Er zijn iedere avond punten te verdienen voor een soort van interne competitie. Na een aantal weken zal daar een winnaar uitkomen en daarvoor hebben wij dan een kleinigheidje. Er hoeft voor die avonden geen inschrijfgeld te worden betaald. De koelkast is gevuld en wij vragen hiervoor een vrijwillige bijdrage. QR-code is verplicht\, bij klachten thuis blijven en wanneer je niet aan het darten bent zul je moeten zitten. \nMomenteel geregistreerdTheo van Voorthuizen Mick van den Berg Gerdo Diepeveen Gerard Pol André van Veller Emiel Van den heuvel
URL:https://www.dvrenswoude.nl/event/interne-competitie-11-02-2022/
LOCATION:Dartlokaal DVR\, Lijsterbeslaan 18\, Renswoude\, Nederland
CATEGORIES:Oefenavond
ORGANIZER;CN="DV Renswoude":MAILTO:info@dvrenswoude.nl
END:VEVENT
BEGIN:VEVENT
DTSTART;TZID=Europe/Amsterdam:20220215T200000
DTEND;TZID=Europe/Amsterdam:20220215T230000
DTSTAMP:20260422T235016
CREATED:20220203T075316Z
LAST-MODIFIED:20220203T075316Z
UID:2280-1644955200-1644966000@www.dvrenswoude.nl
SUMMARY:Interne competitie 15-02-2022
DESCRIPTION:We blijven doorgaan darten nu het weer kan. Iedere dinsdagavond en vrijdagavond zullen wij het dartlokaal openen voor onze leden om zo lekker een potje te kunnen darten. Op dinsdag- en vrijdagavond gaat het lokaal om 19:30 uur open en zullen wij om 20:00 uur beginnen. Wij gaan dat iets anders aanpakken dan de oefenavonden. Er zijn iedere avond punten te verdienen voor een soort van interne competitie. Na een aantal weken zal daar een winnaar uitkomen en daarvoor hebben wij dan een kleinigheidje. Er hoeft voor die avonden geen inschrijfgeld te worden betaald. De koelkast is gevuld en wij vragen hiervoor een vrijwillige bijdrage. QR-code is verplicht\, bij klachten thuis blijven en wanneer je niet aan het darten bent zul je moeten zitten. \nMomenteel geregistreerdHanno van Uffelen André van Veller Andre De Wit Arjan Aantjes Joep Huijzendveld Mick van den Berg
URL:https://www.dvrenswoude.nl/event/interne-competitie-15-02-2022/
LOCATION:Dartlokaal DVR\, Lijsterbeslaan 18\, Renswoude\, Nederland
CATEGORIES:Oefenavond
ORGANIZER;CN="DV Renswoude":MAILTO:info@dvrenswoude.nl
END:VEVENT
BEGIN:VEVENT
DTSTART;TZID=Europe/Amsterdam:20220218T200000
DTEND;TZID=Europe/Amsterdam:20220218T230000
DTSTAMP:20260422T235016
CREATED:20220203T075417Z
LAST-MODIFIED:20220203T075417Z
UID:2282-1645214400-1645225200@www.dvrenswoude.nl
SUMMARY:Interne competitie 18-02-2022
DESCRIPTION:We blijven doorgaan darten nu het weer kan. Iedere dinsdagavond en vrijdagavond zullen wij het dartlokaal openen voor onze leden om zo lekker een potje te kunnen darten. Op dinsdag- en vrijdagavond gaat het lokaal om 19:30 uur open en zullen wij om 20:00 uur beginnen. Wij gaan dat iets anders aanpakken dan de oefenavonden. Er zijn iedere avond punten te verdienen voor een soort van interne competitie. Na een aantal weken zal daar een winnaar uitkomen en daarvoor hebben wij dan een kleinigheidje. Er hoeft voor die avonden geen inschrijfgeld te worden betaald. De koelkast is gevuld en wij vragen hiervoor een vrijwillige bijdrage. QR-code is verplicht\, bij klachten thuis blijven en wanneer je niet aan het darten bent zul je moeten zitten. \nMomenteel geregistreerdMaikel Breedijk Geurt Beijer André van Veller Mick van den Berg
URL:https://www.dvrenswoude.nl/event/interne-competitie-18-02-2022/
LOCATION:Dartlokaal DVR\, Lijsterbeslaan 18\, Renswoude\, Nederland
CATEGORIES:Oefenavond
ORGANIZER;CN="DV Renswoude":MAILTO:info@dvrenswoude.nl
END:VEVENT
BEGIN:VEVENT
DTSTART;TZID=Europe/Amsterdam:20220222T200000
DTEND;TZID=Europe/Amsterdam:20220222T230000
DTSTAMP:20260422T235016
CREATED:20220221T110525Z
LAST-MODIFIED:20220221T110525Z
UID:2316-1645560000-1645570800@www.dvrenswoude.nl
SUMMARY:Interne Competitie 22-02-2022
DESCRIPTION:De competities zijn weer begonnen en dus zullen wij nog maar 1 in de week gaan gooien. Dit alleen als er voldoende animo is. Alles blijft verder hetzelfde.  \nMomenteel geregistreerdHanno van Uffelen Mick van den Berg
URL:https://www.dvrenswoude.nl/event/interne-competitie-22-02-2022/
LOCATION:Dartlokaal DVR\, Lijsterbeslaan 18\, Renswoude\, Nederland
CATEGORIES:Oefenavond
ORGANIZER;CN="DV Renswoude":MAILTO:info@dvrenswoude.nl
END:VEVENT
BEGIN:VEVENT
DTSTART;TZID=Europe/Amsterdam:20220301T200000
DTEND;TZID=Europe/Amsterdam:20220301T230000
DTSTAMP:20260422T235016
CREATED:20220221T121922Z
LAST-MODIFIED:20220228T084152Z
UID:2318-1646164800-1646175600@www.dvrenswoude.nl
SUMMARY:Interne competitie 01-03-2022
DESCRIPTION:De competities zijn weer begonnen en dus zullen wij nog maar 1 in de week gaan gooien. Dit alleen als er voldoende animo is. Alles blijft verder hetzelfde.  \nVandaag is eerst de Algemene Ledenvergadering. Daarna zullen wij een pijltje gaan gooien. \nMomenteel geregistreerdMick van den Berg Berry Demoed Joep Huijzendveld André van Veller Geurt Beijer Hanno van Uffelen Andre de Wit
URL:https://www.dvrenswoude.nl/event/interne-competitie-01-03-2022/
LOCATION:Dartlokaal DVR\, Lijsterbeslaan 18\, Renswoude\, Nederland
CATEGORIES:Oefenavond
ORGANIZER;CN="DV Renswoude":MAILTO:info@dvrenswoude.nl
END:VEVENT
BEGIN:VEVENT
DTSTART;TZID=Europe/Amsterdam:20220311T200000
DTEND;TZID=Europe/Amsterdam:20220311T230000
DTSTAMP:20260422T235016
CREATED:20220311T100503Z
LAST-MODIFIED:20220311T151656Z
UID:2336-1647028800-1647039600@www.dvrenswoude.nl
SUMMARY:Interne competitie 11-03-2022
DESCRIPTION:De competities zijn weer begonnen en dus zullen wij nog maar 1 in de week gaan gooien. Dit alleen als er voldoende animo is. Alles blijft verder hetzelfde.  \nVandaag is de koelkast weer gevuld en openen de deuren bij voldoende animo om 19:30. De aanmelding sluit om 18:00 uur. \nMomenteel geregistreerdAndré van Veller Gerdo Diepeveen Hanno van Uffelen
URL:https://www.dvrenswoude.nl/event/interne-competitie-11-03-2022/
LOCATION:Dartlokaal DVR\, Lijsterbeslaan 18\, Renswoude\, Nederland
CATEGORIES:Oefenavond
ORGANIZER;CN="DV Renswoude":MAILTO:info@dvrenswoude.nl
END:VEVENT
BEGIN:VEVENT
DTSTART;TZID=Europe/Amsterdam:20220325T200000
DTEND;TZID=Europe/Amsterdam:20220325T230000
DTSTAMP:20260422T235016
CREATED:20220321T092705Z
LAST-MODIFIED:20220321T093143Z
UID:2349-1648238400-1648249200@www.dvrenswoude.nl
SUMMARY:Interne competitie 25-03-2022
DESCRIPTION:De competities zijn weer begonnen en dus zullen wij nog maar 1 in de week gaan gooien. Dit alleen als er voldoende animo is. Alles blijft verder hetzelfde.  \nDie avond is de koelkast weer gevuld en openen de deuren bij voldoende animo om 19:30. De aanmelding sluit om 18:00 uur. \nMomenteel geregistreerdAndré van Veller
URL:https://www.dvrenswoude.nl/event/interne-competitie-25-03-2022/
LOCATION:Dartlokaal DVR\, Lijsterbeslaan 18\, Renswoude\, Nederland
CATEGORIES:Oefenavond
ORGANIZER;CN="DV Renswoude":MAILTO:info@dvrenswoude.nl
END:VEVENT
BEGIN:VEVENT
DTSTART;TZID=Europe/Amsterdam:20220401T200000
DTEND;TZID=Europe/Amsterdam:20220401T230000
DTSTAMP:20260422T235016
CREATED:20220330T070610Z
LAST-MODIFIED:20220330T070610Z
UID:2379-1648843200-1648854000@www.dvrenswoude.nl
SUMMARY:Interne Competitie 01-04-2022
DESCRIPTION:De competities zijn weer begonnen en dus zullen wij nog maar 1 in de week gaan gooien. Dit alleen als er voldoende animo is. Alles blijft verder hetzelfde.  \nDie avond is de koelkast weer gevuld en openen de deuren bij voldoende animo om 19:30. De aanmelding sluit om 18:00 uur. \nMomenteel geregistreerdWim Willemsen Hanno van Uffelen André van Veller
URL:https://www.dvrenswoude.nl/event/interne-competitie-01-04-2022/
LOCATION:Dartlokaal DVR\, Lijsterbeslaan 18\, Renswoude\, Nederland
CATEGORIES:Oefenavond
ORGANIZER;CN="DV Renswoude":MAILTO:info@dvrenswoude.nl
END:VEVENT
BEGIN:VEVENT
DTSTART;TZID=Europe/Amsterdam:20220408T200000
DTEND;TZID=Europe/Amsterdam:20220408T230000
DTSTAMP:20260422T235016
CREATED:20220330T070729Z
LAST-MODIFIED:20220330T070729Z
UID:2381-1649448000-1649458800@www.dvrenswoude.nl
SUMMARY:Interne Competitie 08-04-2022
DESCRIPTION:De competities zijn weer begonnen en dus zullen wij nog maar 1 in de week gaan gooien. Dit alleen als er voldoende animo is. Alles blijft verder hetzelfde.  \nDie avond is de koelkast weer gevuld en openen de deuren bij voldoende animo om 19:30. De aanmelding sluit om 18:00 uur. \n\n			Momenteel geregistreerd\n				Wees de eerste!
URL:https://www.dvrenswoude.nl/event/interne-competitie-08-04-2022/
LOCATION:Dartlokaal DVR\, Lijsterbeslaan 18\, Renswoude\, Nederland
CATEGORIES:Oefenavond
ORGANIZER;CN="DV Renswoude":MAILTO:info@dvrenswoude.nl
END:VEVENT
END:VCALENDAR