BEGIN:VCALENDAR
VERSION:2.0
PRODID:-//Dartvereniging Renswoude - ECPv6.15.20//NONSGML v1.0//EN
CALSCALE:GREGORIAN
METHOD:PUBLISH
X-WR-CALNAME:Dartvereniging Renswoude
X-ORIGINAL-URL:https://www.dvrenswoude.nl
X-WR-CALDESC:Evenementen voor Dartvereniging Renswoude
REFRESH-INTERVAL;VALUE=DURATION:PT1H
X-Robots-Tag:noindex
X-PUBLISHED-TTL:PT1H
BEGIN:VTIMEZONE
TZID:Europe/Amsterdam
BEGIN:DAYLIGHT
TZOFFSETFROM:+0100
TZOFFSETTO:+0200
TZNAME:CEST
DTSTART:20220327T010000
END:DAYLIGHT
BEGIN:STANDARD
TZOFFSETFROM:+0200
TZOFFSETTO:+0100
TZNAME:CET
DTSTART:20221030T010000
END:STANDARD
BEGIN:DAYLIGHT
TZOFFSETFROM:+0100
TZOFFSETTO:+0200
TZNAME:CEST
DTSTART:20230326T010000
END:DAYLIGHT
BEGIN:STANDARD
TZOFFSETFROM:+0200
TZOFFSETTO:+0100
TZNAME:CET
DTSTART:20231029T010000
END:STANDARD
BEGIN:DAYLIGHT
TZOFFSETFROM:+0100
TZOFFSETTO:+0200
TZNAME:CEST
DTSTART:20240331T010000
END:DAYLIGHT
BEGIN:STANDARD
TZOFFSETFROM:+0200
TZOFFSETTO:+0100
TZNAME:CET
DTSTART:20241027T010000
END:STANDARD
END:VTIMEZONE
BEGIN:VEVENT
DTSTART;TZID=Europe/Amsterdam:20230218T130000
DTEND;TZID=Europe/Amsterdam:20230218T190000
DTSTAMP:20260424T215306
CREATED:20230109T134944Z
LAST-MODIFIED:20230109T134944Z
UID:2884-1676725200-1676746800@www.dvrenswoude.nl
SUMMARY:Gesloten vv Renswoude 2023
DESCRIPTION:Het toernooi is dus uitgesteld\, maar van uitstel deze keer geen afstel. Het toernooi zal nu worden gehouden op 18 februari 2023. Wil je daar weer aan mee doen\, dan kun je jezelf weer ‘opnieuw’ aanmelden. \nDit keer hopen wij toch eindelijk echt weer de 30e editie te kunnen gooien van het Gesloten vv Renswoude. De datum voor dit toernooi is 7 januari 2023. Dit is zoals altijd een invitatietoernooi met een max. van 40 deelnemers. Alles is in al die jaren niets veranderd. Het inschrijfgeld is 5 Euro (Dit keer wel contant afrekenen). De prijzen zijn ook gewoon weer bekers. Het toernooi zal starten om 13:00 uur en begint met de poulefase. Daarna zal er alleen worden gespeeld in de knockout winnaarsronde en de tegenstanders zullen worden geloot. Voor iedere 180er is er weer een biertje beschikbaar. \nInschrijving kan dus alleen maar als je een uitnodiging hebt ontvangen per mail. Mocht je iemand weten die lid is van de VV Renswoude of DV Renswoude en ook mee wil doen\, laat het ons vooral weten. \nMomenteel geregistreerdTheo Donkelaar John van Veldhuizen Mark Goes Micha de Vries tino oostenbrugge Reindert Van omme Jacco Hardeman Andre de Wit Henri Koelewijn Marcel Verploegen Geurt Beijer Ab Leijenhorst Job Leeuw de Emiel Van den heuvel Gerard Pol Gerdo Diepeveen Tijs (Tussenronde) van Roekel Berry Demoed Ilse Beijer Joep Huijzendveld Twan van Veldhuizen Jerre van Voorthuizen Reindert Donkelaar Wim Willemsen Heino Schut Maikel Breedijk Danielle Hardeman Erwin Overeem Thomas Van den dool wilco van den brandhof Maikel Hevel Paul Ebskamp Wilco de Leeuw Leonie Osnabrugge Arjan Aantjes Martijn Van de Pol André van Veller Gert Vink Joël Donkelaar Jasper Guis
URL:https://www.dvrenswoude.nl/event/gesloten-vv-renswoude-2023/
LOCATION:Kantine vv Renswoude\, De Hokhorst 5\, Renswoude\, 3927GX
CATEGORIES:Toernooien
ORGANIZER;CN="DV Renswoude":MAILTO:info@dvrenswoude.nl
END:VEVENT
END:VCALENDAR