BEGIN:VCALENDAR
VERSION:2.0
PRODID:-//Dartvereniging Renswoude - ECPv6.15.20//NONSGML v1.0//EN
CALSCALE:GREGORIAN
METHOD:PUBLISH
X-ORIGINAL-URL:https://www.dvrenswoude.nl
X-WR-CALDESC:Evenementen voor Dartvereniging Renswoude
REFRESH-INTERVAL;VALUE=DURATION:PT1H
X-Robots-Tag:noindex
X-PUBLISHED-TTL:PT1H
BEGIN:VTIMEZONE
TZID:Europe/Amsterdam
BEGIN:DAYLIGHT
TZOFFSETFROM:+0100
TZOFFSETTO:+0200
TZNAME:CEST
DTSTART:20240331T010000
END:DAYLIGHT
BEGIN:STANDARD
TZOFFSETFROM:+0200
TZOFFSETTO:+0100
TZNAME:CET
DTSTART:20241027T010000
END:STANDARD
BEGIN:DAYLIGHT
TZOFFSETFROM:+0100
TZOFFSETTO:+0200
TZNAME:CEST
DTSTART:20250330T010000
END:DAYLIGHT
BEGIN:STANDARD
TZOFFSETFROM:+0200
TZOFFSETTO:+0100
TZNAME:CET
DTSTART:20251026T010000
END:STANDARD
BEGIN:DAYLIGHT
TZOFFSETFROM:+0100
TZOFFSETTO:+0200
TZNAME:CEST
DTSTART:20260329T010000
END:DAYLIGHT
BEGIN:STANDARD
TZOFFSETFROM:+0200
TZOFFSETTO:+0100
TZNAME:CET
DTSTART:20261025T010000
END:STANDARD
BEGIN:DAYLIGHT
TZOFFSETFROM:+0100
TZOFFSETTO:+0200
TZNAME:CEST
DTSTART:20270328T010000
END:DAYLIGHT
BEGIN:STANDARD
TZOFFSETFROM:+0200
TZOFFSETTO:+0100
TZNAME:CET
DTSTART:20271031T010000
END:STANDARD
END:VTIMEZONE
BEGIN:VEVENT
DTSTART;TZID=Europe/Amsterdam:20250104T120000
DTEND;TZID=Europe/Amsterdam:20250104T190000
DTSTAMP:20260423T084054
CREATED:20241126T080553Z
LAST-MODIFIED:20241217T083404Z
UID:4038-1735992000-1736017200@www.dvrenswoude.nl
SUMMARY:Gesloten Renswoude 2025
DESCRIPTION:Dit keer staat de 32e editie van het Gesloten vv Renswoude op het programma. De datum voor dit toernooi is 4 januari 2025. Dit is zoals altijd een invitatietoernooi met een max. van 40 deelnemers. Mensen die al eerder hebben meegedaan\, alle competitiespelende leden en leden die ook lid zijn van de VV Renswoude hebben een uitnodiging ontvangen. Spelers\, trainers\, leiders van de seniorenelftallen mogen ook meedoen. Verder is alles in al die jaren niets veranderd. Het inschrijfgeld is 5 Euro (Er kan contact worden afgerekend\, maar ook via de QR-code). De prijzen zijn ook gewoon weer bekers aangezien dit een gezelligheidstoernooi is. Dit jaar spelen wij voor een nieuwe wisselbeker. De nieuwe wisselbeker is mogelijk gemaakt door de winnaar van de oude\, Joep Huijzendveld. Het toernooi zal starten om 12:00 uur en begint met de poulefase. Daarna zal er alleen worden gespeeld in de knockout winnaarsronde en de tegenstanders zullen iedere keer worden geloot. Voor iedere 180er is er weer een biertje beschikbaar. \nInschrijving kan dus alleen maar als je een uitnodiging hebt ontvangen per mail. \nMomenteel geregistreerdReinier van de Burgt Jasper Guis Marnix van Meeuwen Breus van Doorn Iwan van den Hudding Robin Mulder Maikel Breedijk Job de Leeuw Willeke van Ree Gerdo Diepeveen Danielle Hardeman Andre de Wit Arjan Aantjes Emiel Van den heuvel Geurt Beijer Jerre Van Voorthuizen Martijn van de Pol Sietse Hardeman John Doest Reindert Van omme Levi Smit Dennis Vink Marco van Mourik Gerard Pol Wilco de Leeuw Reindert Donkelaar Jacco Hardeman Robin Burgers Joël Donkelaar Leonie Osnabrugge Gert Vink Marcel Verploegen Joep Huijzendveld André van Veller
URL:https://www.dvrenswoude.nl/event/gesloten-renswoude-2025/
LOCATION:Kantine vv Renswoude\, De Hokhorst 5\, Renswoude\, 3927GX
CATEGORIES:Toernooien
ORGANIZER;CN="DV Renswoude":MAILTO:info@dvrenswoude.nl
END:VEVENT
BEGIN:VEVENT
DTSTART;TZID=Europe/Amsterdam:20260103T120000
DTEND;TZID=Europe/Amsterdam:20260103T183000
DTSTAMP:20260423T084054
CREATED:20251117T150220Z
LAST-MODIFIED:20251231T102511Z
UID:4703-1767441600-1767465000@www.dvrenswoude.nl
SUMMARY:Gesloten vv Renswoude 2026
DESCRIPTION:Dit keer staat de 33e editie van het Gesloten vv Renswoude op het programma. De datum voor dit toernooi is 3 januari 2026. Lekker na de feestdagen weer een pijltje gooien met bekenden. Dit is zoals altijd een invitatietoernooi met een max. van 40 deelnemers. Mensen die al eerder hebben meegedaan\, alle competitiespelende leden en leden die ook lid zijn van de VV Renswoude hebben een uitnodiging ontvangen. Spelers\, trainers\, leiders van de seniorenelftallen mogen ook meedoen. Verder is alles in al die jaren niets veranderd. Het inschrijfgeld is 5 Euro (Er kan contact worden afgerekend\, maar ook via de QR-code). De prijzen zijn ook gewoon weer bekers aangezien dit een gezelligheidstoernooi is. De wisselbeker is in handen van Joep Huijzendveld. Het toernooi zal starten om 12:00 uur en begint met de poulefase. Daarna zal er alleen worden gespeeld in de knockout winnaarsronde en de tegenstanders zullen iedere keer worden geloot. Voor iedere 180er is er weer een biertje beschikbaar. \nInschrijving kan dus alleen maar als je een uitnodiging hebt ontvangen per mail. \nMomenteel geregistreerdMarnix van Meeuwen Wes Van de bovenkamp Lars Van Roekel Cas van Walsem Finn Bokkers Henri Koelewijn Joël Donkelaar Jerre van Voorthuizen Gerdo Diepeveen Wim Willemsen Arjan Aantjes John van Veldhuizen dennis vink Thomas Van den dool Iwan vd Hudding Wilco de Leeuw Leonie Osnabrugge Jacco Hardeman André van Veller Willeke van Asselt Joep Van de pol wesley Van den Brandhof Jan van de Bovenkamp Heino Schut Robin Burgers Maikel Breedijk Levi Smit Gerard Pol Reindert Van omme Frank Hendriks Micha de Vries Job de Leeuw Andre de Wit Berry Demoed Geurt Beijer Reindert Donkelaar Joep Huijzendveld Danielle Hardeman Marcel Verploegen Emiel Van den Heuvel
URL:https://www.dvrenswoude.nl/event/gesloten-vv-renswoude-2026/
LOCATION:Kantine vv Renswoude\, De Hokhorst 5\, Renswoude\, 3927GX
CATEGORIES:Toernooien
ORGANIZER;CN="DV Renswoude":MAILTO:info@dvrenswoude.nl
END:VEVENT
END:VCALENDAR